BEGIN:VCALENDAR
VERSION:2.0
PRODID:-//Building Women Empowered - ECPv6.0.13.1//NONSGML v1.0//EN
CALSCALE:GREGORIAN
METHOD:PUBLISH
X-ORIGINAL-URL:https://buildingwomenempowered.com
X-WR-CALDESC:Events for Building Women Empowered
REFRESH-INTERVAL;VALUE=DURATION:PT1H
X-Robots-Tag:noindex
X-PUBLISHED-TTL:PT1H
BEGIN:VTIMEZONE
TZID:UTC
BEGIN:STANDARD
TZOFFSETFROM:+0000
TZOFFSETTO:+0000
TZNAME:UTC
DTSTART:20240101T000000
END:STANDARD
END:VTIMEZONE
BEGIN:VEVENT
DTSTART;VALUE=DATE:20250427
DTEND;VALUE=DATE:20250428
DTSTAMP:20260422T004016
CREATED:20250422T231229Z
LAST-MODIFIED:20250422T231229Z
UID:10000039-1745712000-1745798399@buildingwomenempowered.com
SUMMARY:Mai Bhi Dream Girl Auditions
DESCRIPTION:Winners awarded by Dream Girl Hema Malini. Group items welcome\, each person will pay a separate fee. Auditions via zoom. Send clips to rennud@gmail.com
URL:https://buildingwomenempowered.com/event/mai-bhi-dream-girl-auditions/
ORGANIZER;CN="Building%20Women%20Empowered":MAILTO:rennud@gmail.com
END:VEVENT
BEGIN:VEVENT
DTSTART;TZID=UTC:20240816T193000
DTEND;TZID=UTC:20240816T230000
DTSTAMP:20260422T004016
CREATED:20240811T183334Z
LAST-MODIFIED:20240811T183334Z
UID:10000035-1723836600-1723849200@buildingwomenempowered.com
SUMMARY:Sonu Sood - Up Close & Personal
DESCRIPTION:Special discounted tickets through BWE – contact Rennu for details. Fundraiser for Sonu Sood cause.
URL:https://buildingwomenempowered.com/event/sonu-sood-up-close-personal/
LOCATION:Aria Banquet Hall\, 212 Ranch Drive\, Milpitas\, CA\, 95035\, United States
CATEGORIES:Fundraiser
END:VEVENT
END:VCALENDAR